Workbook

Sheet Your debts
A1: Debt snowball spreadsheet
A2: Free from Zero Debt. Fill in the yellow cells and everything else updates by itself. Replace the example debts with your own.
A3: Prefer not to use a spreadsheet? Try the free online calculator at zero-debt.net
A5: # | B5: Debt name | C5: Balance (£) | D5: APR | E5: Minimum payment (£) | G5: Your results
A6: 1 | B6: Store card | C6: 400 | D6: 0.299 | E6: 25 | H6: Snowball | I6: Avalanche
A7: 2 | B7: Overdraft | C7: 900 | D7: 0.399 | E7: 40 | G7: Debt-free in | H7: =IF('Snowball workings'!$BH$2="","Over 50 years",'Snowball workings'!$BH$2&IF('Snowball workings'!$BH$2=1," month"," months")) | I7: =IF('Avalanche workings'!$BH$2="","Over 50 years",'Avalanche workings'!$BH$2&IF('Avalanche workings'!$BH$2=1," month"," months"))
A8: 3 | B8: Credit card 1 | C8: 2400 | D8: 0.249 | E8: 75 | G8: Debt-free date | H8: =IF('Snowball workings'!$BH$2="","",EDATE($D$21,'Snowball workings'!$BH$2-1)) | I8: =IF('Avalanche workings'!$BH$2="","",EDATE($D$21,'Avalanche workings'!$BH$2-1))
A9: 4 | B9: Credit card 2 | C9: 4300 | D9: 0.219 | E9: 120 | G9: Total interest | H9: ='Snowball workings'!$BH$3 | I9: ='Avalanche workings'!$BH$3
A10: 5 | G10: Total paid | H10: ='Snowball workings'!$BH$4+'Snowball workings'!$BH$3 | I10: ='Avalanche workings'!$BH$4+'Avalanche workings'!$BH$3
A11: 6 | G11: =IF(OR('Snowball workings'!$BH$5,'Avalanche workings'!$BH$5),"Your payments do not cover the interest, so the balance grows. Increase your minimums or the extra payment.",IF(OR('Snowball workings'!$BH$6,'Avalanche workings'!$BH$6),"At these payments it takes more than 50 years. Try a larger extra payment.",""))
A12: 7
A13: 8
A14: 9 | G14: ="Payoff order: "&IF($D$20="Avalanche","avalanche","snowball")
A15: 10 | G15: Order | H15: Debt | I15: Paid off | J15: Month
B16: Total | C16: =SUM(C6:C15) | E16: =SUM(E6:E15) | G16: =IF(ISERROR(IF($D$20="Avalanche",MATCH(1,'Avalanche workings'!$AP$5:$AY$5,0),MATCH(1,'Snowball workings'!$AP$5:$AY$5,0))),"",1) | H16: =IFERROR(IF(INDEX($B$6:$B$15,IF($D$20="Avalanche",MATCH(1,'Avalanche workings'!$AP$5:$AY$5,0),MATCH(1,'Snowball workings'!$AP$5:$AY$5,0)))="","Debt "&IF($D$20="Avalanche",MATCH(1,'Avalanche workings'!$AP$5:$AY$5,0),MATCH(1,'Snowball workings'!$AP$5:$AY$5,0)),INDEX($B$6:$B$15,IF($D$20="Avalanche",MATCH(1,'Avalanche workings'!$AP$5:$AY$5,0),MATCH(1,'Snowball workings'!$AP$5:$AY$5,0)))),"") | I16: =IFERROR(EDATE($D$21,IF($D$20="Avalanche",INDEX('Avalanche workings'!$AP$4:$AY$4,1,IF($D$20="Avalanche",MATCH(1,'Avalanche workings'!$AP$5:$AY$5,0),MATCH(1,'Snowball workings'!$AP$5:$AY$5,0))),INDEX('Snowball workings'!$AP$4:$AY$4,1,IF($D$20="Avalanche",MATCH(1,'Avalanche workings'!$AP$5:$AY$5,0),MATCH(1,'Snowball workings'!$AP$5:$AY$5,0))))-1),"") | J16: =IFERROR(IF($D$20="Avalanche",INDEX('Avalanche workings'!$AP$4:$AY$4,1,IF($D$20="Avalanche",MATCH(1,'Avalanche workings'!$AP$5:$AY$5,0),MATCH(1,'Snowball workings'!$AP$5:$AY$5,0))),INDEX('Snowball workings'!$AP$4:$AY$4,1,IF($D$20="Avalanche",MATCH(1,'Avalanche workings'!$AP$5:$AY$5,0),MATCH(1,'Snowball workings'!$AP$5:$AY$5,0)))),"")
G17: =IF(ISERROR(IF($D$20="Avalanche",MATCH(2,'Avalanche workings'!$AP$5:$AY$5,0),MATCH(2,'Snowball workings'!$AP$5:$AY$5,0))),"",2) | H17: =IFERROR(IF(INDEX($B$6:$B$15,IF($D$20="Avalanche",MATCH(2,'Avalanche workings'!$AP$5:$AY$5,0),MATCH(2,'Snowball workings'!$AP$5:$AY$5,0)))="","Debt "&IF($D$20="Avalanche",MATCH(2,'Avalanche workings'!$AP$5:$AY$5,0),MATCH(2,'Snowball workings'!$AP$5:$AY$5,0)),INDEX($B$6:$B$15,IF($D$20="Avalanche",MATCH(2,'Avalanche workings'!$AP$5:$AY$5,0),MATCH(2,'Snowball workings'!$AP$5:$AY$5,0)))),"") | I17: =IFERROR(EDATE($D$21,IF($D$20="Avalanche",INDEX('Avalanche workings'!$AP$4:$AY$4,1,IF($D$20="Avalanche",MATCH(2,'Avalanche workings'!$AP$5:$AY$5,0),MATCH(2,'Snowball workings'!$AP$5:$AY$5,0))),INDEX('Snowball workings'!$AP$4:$AY$4,1,IF($D$20="Avalanche",MATCH(2,'Avalanche workings'!$AP$5:$AY$5,0),MATCH(2,'Snowball workings'!$AP$5:$AY$5,0))))-1),"") | J17: =IFERROR(IF($D$20="Avalanche",INDEX('Avalanche workings'!$AP$4:$AY$4,1,IF($D$20="Avalanche",MATCH(2,'Avalanche workings'!$AP$5:$AY$5,0),MATCH(2,'Snowball workings'!$AP$5:$AY$5,0))),INDEX('Snowball workings'!$AP$4:$AY$4,1,IF($D$20="Avalanche",MATCH(2,'Avalanche workings'!$AP$5:$AY$5,0),MATCH(2,'Snowball workings'!$AP$5:$AY$5,0)))),"")
G18: =IF(ISERROR(IF($D$20="Avalanche",MATCH(3,'Avalanche workings'!$AP$5:$AY$5,0),MATCH(3,'Snowball workings'!$AP$5:$AY$5,0))),"",3) | H18: =IFERROR(IF(INDEX($B$6:$B$15,IF($D$20="Avalanche",MATCH(3,'Avalanche workings'!$AP$5:$AY$5,0),MATCH(3,'Snowball workings'!$AP$5:$AY$5,0)))="","Debt "&IF($D$20="Avalanche",MATCH(3,'Avalanche workings'!$AP$5:$AY$5,0),MATCH(3,'Snowball workings'!$AP$5:$AY$5,0)),INDEX($B$6:$B$15,IF($D$20="Avalanche",MATCH(3,'Avalanche workings'!$AP$5:$AY$5,0),MATCH(3,'Snowball workings'!$AP$5:$AY$5,0)))),"") | I18: =IFERROR(EDATE($D$21,IF($D$20="Avalanche",INDEX('Avalanche workings'!$AP$4:$AY$4,1,IF($D$20="Avalanche",MATCH(3,'Avalanche workings'!$AP$5:$AY$5,0),MATCH(3,'Snowball workings'!$AP$5:$AY$5,0))),INDEX('Snowball workings'!$AP$4:$AY$4,1,IF($D$20="Avalanche",MATCH(3,'Avalanche workings'!$AP$5:$AY$5,0),MATCH(3,'Snowball workings'!$AP$5:$AY$5,0))))-1),"") | J18: =IFERROR(IF($D$20="Avalanche",INDEX('Avalanche workings'!$AP$4:$AY$4,1,IF($D$20="Avalanche",MATCH(3,'Avalanche workings'!$AP$5:$AY$5,0),MATCH(3,'Snowball workings'!$AP$5:$AY$5,0))),INDEX('Snowball workings'!$AP$4:$AY$4,1,IF($D$20="Avalanche",MATCH(3,'Avalanche workings'!$AP$5:$AY$5,0),MATCH(3,'Snowball workings'!$AP$5:$AY$5,0)))),"")
A19: Extra you can pay each month (£) | D19: 150 | G19: =IF(ISERROR(IF($D$20="Avalanche",MATCH(4,'Avalanche workings'!$AP$5:$AY$5,0),MATCH(4,'Snowball workings'!$AP$5:$AY$5,0))),"",4) | H19: =IFERROR(IF(INDEX($B$6:$B$15,IF($D$20="Avalanche",MATCH(4,'Avalanche workings'!$AP$5:$AY$5,0),MATCH(4,'Snowball workings'!$AP$5:$AY$5,0)))="","Debt "&IF($D$20="Avalanche",MATCH(4,'Avalanche workings'!$AP$5:$AY$5,0),MATCH(4,'Snowball workings'!$AP$5:$AY$5,0)),INDEX($B$6:$B$15,IF($D$20="Avalanche",MATCH(4,'Avalanche workings'!$AP$5:$AY$5,0),MATCH(4,'Snowball workings'!$AP$5:$AY$5,0)))),"") | I19: =IFERROR(EDATE($D$21,IF($D$20="Avalanche",INDEX('Avalanche workings'!$AP$4:$AY$4,1,IF($D$20="Avalanche",MATCH(4,'Avalanche workings'!$AP$5:$AY$5,0),MATCH(4,'Snowball workings'!$AP$5:$AY$5,0))),INDEX('Snowball workings'!$AP$4:$AY$4,1,IF($D$20="Avalanche",MATCH(4,'Avalanche workings'!$AP$5:$AY$5,0),MATCH(4,'Snowball workings'!$AP$5:$AY$5,0))))-1),"") | J19: =IFERROR(IF($D$20="Avalanche",INDEX('Avalanche workings'!$AP$4:$AY$4,1,IF($D$20="Avalanche",MATCH(4,'Avalanche workings'!$AP$5:$AY$5,0),MATCH(4,'Snowball workings'!$AP$5:$AY$5,0))),INDEX('Snowball workings'!$AP$4:$AY$4,1,IF($D$20="Avalanche",MATCH(4,'Avalanche workings'!$AP$5:$AY$5,0),MATCH(4,'Snowball workings'!$AP$5:$AY$5,0)))),"")
A20: Method | D20: Snowball | G20: =IF(ISERROR(IF($D$20="Avalanche",MATCH(5,'Avalanche workings'!$AP$5:$AY$5,0),MATCH(5,'Snowball workings'!$AP$5:$AY$5,0))),"",5) | H20: =IFERROR(IF(INDEX($B$6:$B$15,IF($D$20="Avalanche",MATCH(5,'Avalanche workings'!$AP$5:$AY$5,0),MATCH(5,'Snowball workings'!$AP$5:$AY$5,0)))="","Debt "&IF($D$20="Avalanche",MATCH(5,'Avalanche workings'!$AP$5:$AY$5,0),MATCH(5,'Snowball workings'!$AP$5:$AY$5,0)),INDEX($B$6:$B$15,IF($D$20="Avalanche",MATCH(5,'Avalanche workings'!$AP$5:$AY$5,0),MATCH(5,'Snowball workings'!$AP$5:$AY$5,0)))),"") | I20: =IFERROR(EDATE($D$21,IF($D$20="Avalanche",INDEX('Avalanche workings'!$AP$4:$AY$4,1,IF($D$20="Avalanche",MATCH(5,'Avalanche workings'!$AP$5:$AY$5,0),MATCH(5,'Snowball workings'!$AP$5:$AY$5,0))),INDEX('Snowball workings'!$AP$4:$AY$4,1,IF($D$20="Avalanche",MATCH(5,'Avalanche workings'!$AP$5:$AY$5,0),MATCH(5,'Snowball workings'!$AP$5:$AY$5,0))))-1),"") | J20: =IFERROR(IF($D$20="Avalanche",INDEX('Avalanche workings'!$AP$4:$AY$4,1,IF($D$20="Avalanche",MATCH(5,'Avalanche workings'!$AP$5:$AY$5,0),MATCH(5,'Snowball workings'!$AP$5:$AY$5,0))),INDEX('Snowball workings'!$AP$4:$AY$4,1,IF($D$20="Avalanche",MATCH(5,'Avalanche workings'!$AP$5:$AY$5,0),MATCH(5,'Snowball workings'!$AP$5:$AY$5,0)))),"")
A21: First payment month | D21: =DATE(YEAR(TODAY()),MONTH(TODAY())+1,1) | G21: =IF(ISERROR(IF($D$20="Avalanche",MATCH(6,'Avalanche workings'!$AP$5:$AY$5,0),MATCH(6,'Snowball workings'!$AP$5:$AY$5,0))),"",6) | H21: =IFERROR(IF(INDEX($B$6:$B$15,IF($D$20="Avalanche",MATCH(6,'Avalanche workings'!$AP$5:$AY$5,0),MATCH(6,'Snowball workings'!$AP$5:$AY$5,0)))="","Debt "&IF($D$20="Avalanche",MATCH(6,'Avalanche workings'!$AP$5:$AY$5,0),MATCH(6,'Snowball workings'!$AP$5:$AY$5,0)),INDEX($B$6:$B$15,IF($D$20="Avalanche",MATCH(6,'Avalanche workings'!$AP$5:$AY$5,0),MATCH(6,'Snowball workings'!$AP$5:$AY$5,0)))),"") | I21: =IFERROR(EDATE($D$21,IF($D$20="Avalanche",INDEX('Avalanche workings'!$AP$4:$AY$4,1,IF($D$20="Avalanche",MATCH(6,'Avalanche workings'!$AP$5:$AY$5,0),MATCH(6,'Snowball workings'!$AP$5:$AY$5,0))),INDEX('Snowball workings'!$AP$4:$AY$4,1,IF($D$20="Avalanche",MATCH(6,'Avalanche workings'!$AP$5:$AY$5,0),MATCH(6,'Snowball workings'!$AP$5:$AY$5,0))))-1),"") | J21: =IFERROR(IF($D$20="Avalanche",INDEX('Avalanche workings'!$AP$4:$AY$4,1,IF($D$20="Avalanche",MATCH(6,'Avalanche workings'!$AP$5:$AY$5,0),MATCH(6,'Snowball workings'!$AP$5:$AY$5,0))),INDEX('Snowball workings'!$AP$4:$AY$4,1,IF($D$20="Avalanche",MATCH(6,'Avalanche workings'!$AP$5:$AY$5,0),MATCH(6,'Snowball workings'!$AP$5:$AY$5,0)))),"")
A22: Total paid to debts each month | D22: =SUMIF(C6:C15,">0",E6:E15)+N(D19) | G22: =IF(ISERROR(IF($D$20="Avalanche",MATCH(7,'Avalanche workings'!$AP$5:$AY$5,0),MATCH(7,'Snowball workings'!$AP$5:$AY$5,0))),"",7) | H22: =IFERROR(IF(INDEX($B$6:$B$15,IF($D$20="Avalanche",MATCH(7,'Avalanche workings'!$AP$5:$AY$5,0),MATCH(7,'Snowball workings'!$AP$5:$AY$5,0)))="","Debt "&IF($D$20="Avalanche",MATCH(7,'Avalanche workings'!$AP$5:$AY$5,0),MATCH(7,'Snowball workings'!$AP$5:$AY$5,0)),INDEX($B$6:$B$15,IF($D$20="Avalanche",MATCH(7,'Avalanche workings'!$AP$5:$AY$5,0),MATCH(7,'Snowball workings'!$AP$5:$AY$5,0)))),"") | I22: =IFERROR(EDATE($D$21,IF($D$20="Avalanche",INDEX('Avalanche workings'!$AP$4:$AY$4,1,IF($D$20="Avalanche",MATCH(7,'Avalanche workings'!$AP$5:$AY$5,0),MATCH(7,'Snowball workings'!$AP$5:$AY$5,0))),INDEX('Snowball workings'!$AP$4:$AY$4,1,IF($D$20="Avalanche",MATCH(7,'Avalanche workings'!$AP$5:$AY$5,0),MATCH(7,'Snowball workings'!$AP$5:$AY$5,0))))-1),"") | J22: =IFERROR(IF($D$20="Avalanche",INDEX('Avalanche workings'!$AP$4:$AY$4,1,IF($D$20="Avalanche",MATCH(7,'Avalanche workings'!$AP$5:$AY$5,0),MATCH(7,'Snowball workings'!$AP$5:$AY$5,0))),INDEX('Snowball workings'!$AP$4:$AY$4,1,IF($D$20="Avalanche",MATCH(7,'Avalanche workings'!$AP$5:$AY$5,0),MATCH(7,'Snowball workings'!$AP$5:$AY$5,0)))),"")
G23: =IF(ISERROR(IF($D$20="Avalanche",MATCH(8,'Avalanche workings'!$AP$5:$AY$5,0),MATCH(8,'Snowball workings'!$AP$5:$AY$5,0))),"",8) | H23: =IFERROR(IF(INDEX($B$6:$B$15,IF($D$20="Avalanche",MATCH(8,'Avalanche workings'!$AP$5:$AY$5,0),MATCH(8,'Snowball workings'!$AP$5:$AY$5,0)))="","Debt "&IF($D$20="Avalanche",MATCH(8,'Avalanche workings'!$AP$5:$AY$5,0),MATCH(8,'Snowball workings'!$AP$5:$AY$5,0)),INDEX($B$6:$B$15,IF($D$20="Avalanche",MATCH(8,'Avalanche workings'!$AP$5:$AY$5,0),MATCH(8,'Snowball workings'!$AP$5:$AY$5,0)))),"") | I23: =IFERROR(EDATE($D$21,IF($D$20="Avalanche",INDEX('Avalanche workings'!$AP$4:$AY$4,1,IF($D$20="Avalanche",MATCH(8,'Avalanche workings'!$AP$5:$AY$5,0),MATCH(8,'Snowball workings'!$AP$5:$AY$5,0))),INDEX('Snowball workings'!$AP$4:$AY$4,1,IF($D$20="Avalanche",MATCH(8,'Avalanche workings'!$AP$5:$AY$5,0),MATCH(8,'Snowball workings'!$AP$5:$AY$5,0))))-1),"") | J23: =IFERROR(IF($D$20="Avalanche",INDEX('Avalanche workings'!$AP$4:$AY$4,1,IF($D$20="Avalanche",MATCH(8,'Avalanche workings'!$AP$5:$AY$5,0),MATCH(8,'Snowball workings'!$AP$5:$AY$5,0))),INDEX('Snowball workings'!$AP$4:$AY$4,1,IF($D$20="Avalanche",MATCH(8,'Avalanche workings'!$AP$5:$AY$5,0),MATCH(8,'Snowball workings'!$AP$5:$AY$5,0)))),"")
A24: How to use it | G24: =IF(ISERROR(IF($D$20="Avalanche",MATCH(9,'Avalanche workings'!$AP$5:$AY$5,0),MATCH(9,'Snowball workings'!$AP$5:$AY$5,0))),"",9) | H24: =IFERROR(IF(INDEX($B$6:$B$15,IF($D$20="Avalanche",MATCH(9,'Avalanche workings'!$AP$5:$AY$5,0),MATCH(9,'Snowball workings'!$AP$5:$AY$5,0)))="","Debt "&IF($D$20="Avalanche",MATCH(9,'Avalanche workings'!$AP$5:$AY$5,0),MATCH(9,'Snowball workings'!$AP$5:$AY$5,0)),INDEX($B$6:$B$15,IF($D$20="Avalanche",MATCH(9,'Avalanche workings'!$AP$5:$AY$5,0),MATCH(9,'Snowball workings'!$AP$5:$AY$5,0)))),"") | I24: =IFERROR(EDATE($D$21,IF($D$20="Avalanche",INDEX('Avalanche workings'!$AP$4:$AY$4,1,IF($D$20="Avalanche",MATCH(9,'Avalanche workings'!$AP$5:$AY$5,0),MATCH(9,'Snowball workings'!$AP$5:$AY$5,0))),INDEX('Snowball workings'!$AP$4:$AY$4,1,IF($D$20="Avalanche",MATCH(9,'Avalanche workings'!$AP$5:$AY$5,0),MATCH(9,'Snowball workings'!$AP$5:$AY$5,0))))-1),"") | J24: =IFERROR(IF($D$20="Avalanche",INDEX('Avalanche workings'!$AP$4:$AY$4,1,IF($D$20="Avalanche",MATCH(9,'Avalanche workings'!$AP$5:$AY$5,0),MATCH(9,'Snowball workings'!$AP$5:$AY$5,0))),INDEX('Snowball workings'!$AP$4:$AY$4,1,IF($D$20="Avalanche",MATCH(9,'Avalanche workings'!$AP$5:$AY$5,0),MATCH(9,'Snowball workings'!$AP$5:$AY$5,0)))),"")
A25: • Enter each debt: credit cards, loans, overdrafts, buy now pay later. Use the balance, APR and minimum payment from your latest statement.
A26: • Add the extra you can afford each month on top of your minimums, even if it is small. The total paid to debts stays the same each month, so when a debt is cleared its payment rolls on to the next.
A27: • Choose Snowball (smallest balance first) or Avalanche (highest APR first). The results show both so you can compare.
A28: • See the Payment plan sheet for what to pay each debt every month. When a debt is cleared, its payment moves to the next one.
A29: • Estimates only. Your lender works out interest daily, so real figures can differ by a few pounds. Promotional 0% rates are not modelled; enter the rate you will pay after the offer ends.
A30: • Struggling? Free, confidential debt advice: StepChange (stepchange.org), National Debtline (nationaldebtline.org), Citizens Advice and MoneyHelper.

Sheet Payment plan
A1: ="Payment plan: "&IF('Your debts'!$D$20="Avalanche","avalanche (highest APR first)","snowball (smallest balance first)") | Z1: =IF(IF('Your debts'!$D$20="Avalanche",'Avalanche workings'!$BH$2,'Snowball workings'!$BH$2)="",600,IF('Your debts'!$D$20="Avalanche",'Avalanche workings'!$BH$2,'Snowball workings'!$BH$2))
A2: What to pay each debt every month. Change your debts or the method on the Your debts sheet.
A4: # | B4: Month | C4: Total payment | D4: Interest | E4: Total balance left | F4: =IF('Your debts'!$B$6="",IF(N('Your debts'!$C$6)>0,"Debt 1",""),'Your debts'!$B$6) | H4: =IF('Your debts'!$B$7="",IF(N('Your debts'!$C$7)>0,"Debt 2",""),'Your debts'!$B$7) | J4: =IF('Your debts'!$B$8="",IF(N('Your debts'!$C$8)>0,"Debt 3",""),'Your debts'!$B$8) | L4: =IF('Your debts'!$B$9="",IF(N('Your debts'!$C$9)>0,"Debt 4",""),'Your debts'!$B$9) | N4: =IF('Your debts'!$B$10="",IF(N('Your debts'!$C$10)>0,"Debt 5",""),'Your debts'!$B$10) | P4: =IF('Your debts'!$B$11="",IF(N('Your debts'!$C$11)>0,"Debt 6",""),'Your debts'!$B$11) | R4: =IF('Your debts'!$B$12="",IF(N('Your debts'!$C$12)>0,"Debt 7",""),'Your debts'!$B$12) | T4: =IF('Your debts'!$B$13="",IF(N('Your debts'!$C$13)>0,"Debt 8",""),'Your debts'!$B$13) | V4: =IF('Your debts'!$B$14="",IF(N('Your debts'!$C$14)>0,"Debt 9",""),'Your debts'!$B$14) | X4: =IF('Your debts'!$B$15="",IF(N('Your debts'!$C$15)>0,"Debt 10",""),'Your debts'!$B$15)
F5: Payment | G5: Balance | H5: Payment | I5: Balance | J5: Payment | K5: Balance | L5: Payment | M5: Balance | N5: Payment | O5: Balance | P5: Payment | Q5: Balance | R5: Payment | S5: Balance | T5: Payment | U5: Balance | V5: Payment | W5: Balance | X5: Payment | Y5: Balance
A6: =IF(1>$Z$1,"",1) | B6: =IF(1>$Z$1,"",EDATE('Your debts'!$D$21,0)) | C6: =IF(1>$Z$1,"",IF('Your debts'!$D$20="Avalanche",'Avalanche workings'!$BC$8,'Snowball workings'!$BC$8)) | D6: =IF(1>$Z$1,"",IF('Your debts'!$D$20="Avalanche",'Avalanche workings'!$BA$8,'Snowball workings'!$BA$8)) | E6: =IF(1>$Z$1,"",IF('Your debts'!$D$20="Avalanche",'Avalanche workings'!$BB$8,'Snowball workings'!$BB$8)) | F6: =IF(OR(1>$Z$1,NOT(OR('Your debts'!$B$6<>"",N('Your debts'!$C$6)>0))),"",IF('Your debts'!$D$20="Avalanche",'Avalanche workings'!$L$8,'Snowball workings'!$L$8)+IF('Your debts'!$D$20="Avalanche",'Avalanche workings'!$AF$8,'Snowball workings'!$AF$8)) | G6: =IF(OR(1>$Z$1,NOT(OR('Your debts'!$B$6<>"",N('Your debts'!$C$6)>0))),"",IF('Your debts'!$D$20="Avalanche",'Avalanche workings'!$AP$8,'Snowball workings'!$AP$8)) | H6: =IF(OR(1>$Z$1,NOT(OR('Your debts'!$B$7<>"",N('Your debts'!$C$7)>0))),"",IF('Your debts'!$D$20="Avalanche",'Avalanche workings'!$M$8,'Snowball workings'!$M$8)+IF('Your debts'!$D$20="Avalanche",'Avalanche workings'!$AG$8,'Snowball workings'!$AG$8)) | I6: =IF(OR(1>$Z$1,NOT(OR('Your debts'!$B$7<>"",N('Your debts'!$C$7)>0))),"",IF('Your debts'!$D$20="Avalanche",'Avalanche workings'!$AQ$8,'Snowball workings'!$AQ$8)) | J6: =IF(OR(1>$Z$1,NOT(OR('Your debts'!$B$8<>"",N('Your debts'!$C$8)>0))),"",IF('Your debts'!$D$20="Avalanche",'Avalanche workings'!$N$8,'Snowball workings'!$N$8)+IF('Your debts'!$D$20="Avalanche",'Avalanche workings'!$AH$8,'Snowball workings'!$AH$8)) | K6: =IF(OR(1>$Z$1,NOT(OR('Your debts'!$B$8<>"",N('Your debts'!$C$8)>0))),"",IF('Your debts'!$D$20="Avalanche",'Avalanche workings'!$AR$8,'Snowball workings'!$AR$8)) | L6: =IF(OR(1>$Z$1,NOT(OR('Your debts'!$B$9<>"",N('Your debts'!$C$9)>0))),"",IF('Your debts'!$D$20="Avalanche",'Avalanche workings'!$O$8,'Snowball workings'!$O$8)+IF('Your debts'!$D$20="Avalanche",'Avalanche workings'!$AI$8,'Snowball workings'!$AI$8)) | M6: =IF(OR(1>$Z$1,NOT(OR('Your debts'!$B$9<>"",N('Your debts'!$C$9)>0))),"",IF('Your debts'!$D$20="Avalanche",'Avalanche workings'!$AS$8,'Snowball workings'!$AS$8)) | N6: =IF(OR(1>$Z$1,NOT(OR('Your debts'!$B$10<>"",N('Your debts'!$C$10)>0))),"",IF('Your debts'!$D$20="Avalanche",'Avalanche workings'!$P$8,'Snowball workings'!$P$8)+IF('Your debts'!$D$20="Avalanche",'Avalanche workings'!$AJ$8,'Snowball workings'!$AJ$8)) | O6: =IF(OR(1>$Z$1,NOT(OR('Your debts'!$B$10<>"",N('Your debts'!$C$10)>0))),"",IF('Your debts'!$D$20="Avalanche",'Avalanche workings'!$AT$8,'Snowball workings'!$AT$8)) | P6: =IF(OR(1>$Z$1,NOT(OR('Your debts'!$B$11<>"",N('Your debts'!$C$11)>0))),"",IF('Your debts'!$D$20="Avalanche",'Avalanche workings'!$Q$8,'Snowball workings'!$Q$8)+IF('Your debts'!$D$20="Avalanche",'Avalanche workings'!$AK$8,'Snowball workings'!$AK$8)) | Q6: =IF(OR(1>$Z$1,NOT(OR('Your debts'!$B$11<>"",N('Your debts'!$C$11)>0))),"",IF('Your debts'!$D$20="Avalanche",'Avalanche workings'!$AU$8,'Snowball workings'!$AU$8)) | R6: =IF(OR(1>$Z$1,NOT(OR('Your debts'!$B$12<>"",N('Your debts'!$C$12)>0))),"",IF('Your debts'!$D$20="Avalanche",'Avalanche workings'!$R$8,'Snowball workings'!$R$8)+IF('Your debts'!$D$20="Avalanche",'Avalanche workings'!$AL$8,'Snowball workings'!$AL$8)) | S6: =IF(OR(1>$Z$1,NOT(OR('Your debts'!$B$12<>"",N('Your debts'!$C$12)>0))),"",IF('Your debts'!$D$20="Avalanche",'Avalanche workings'!$AV$8,'Snowball workings'!$AV$8)) | T6: =IF(OR(1>$Z$1,NOT(OR('Your debts'!$B$13<>"",N('Your debts'!$C$13)>0))),"",IF('Your debts'!$D$20="Avalanche",'Avalanche workings'!$S$8,'Snowball workings'!$S$8)+IF('Your debts'!$D$20="Avalanche",'Avalanche workings'!$AM$8,'Snowball workings'!$AM$8)) | U6: =IF(OR(1>$Z$1,NOT(OR('Your debts'!$B$13<>"",N('Your debts'!$C$13)>0))),"",IF('Your debts'!$D$20="Avalanche",'Avalanche workings'!$AW$8,'Snowball workings'!$AW$8)) | V6: =IF(OR(1>$Z$1,NOT(OR('Your debts'!$B$14<>"",N('Your debts'!$C$14)>0))),"",IF('Your debts'!$D$20="Avalanche",'Avalanche workings'!$T$8,'Snowball workings'!$T$8)+IF('Your debts'!$D$20="Avalanche",'Avalanche workings'!$AN$8,'Snowball workings'!$AN$8)) | W6: =IF(OR(1>$Z$1,NOT(OR('Your debts'!$B$14<>"",N('Your debts'!$C$14)>0))),"",IF('Your debts'!$D$20="Avalanche",'Avalanche workings'!$AX$8,'Snowball workings'!$AX$8)) | X6: =IF(OR(1>$Z$1,NOT(OR('Your debts'!$B$15<>"",N('Your debts'!$C$15)>0))),"",IF('Your debts'!$D$20="Avalanche",'Avalanche workings'!$U$8,'Snowball workings'!$U$8)+IF('Your debts'!$D$20="Avalanche",'Avalanche workings'!$AO$8,'Snowball workings'!$AO$8)) | Y6: =IF(OR(1>$Z$1,NOT(OR('Your debts'!$B$15<>"",N('Your debts'!$C$15)>0))),"",IF('Your debts'!$D$20="Avalanche",'Avalanche workings'!$AY$8,'Snowball workings'!$AY$8))
A7: =IF(2>$Z$1,"",2) | B7: =IF(2>$Z$1,"",EDATE('Your debts'!$D$21,1)) | C7: =IF(2>$Z$1,"",IF('Your debts'!$D$20="Avalanche",'Avalanche workings'!$BC$9,'Snowball workings'!$BC$9)) | D7: =IF(2>$Z$1,"",IF('Your debts'!$D$20="Avalanche",'Avalanche workings'!$BA$9,'Snowball workings'!$BA$9)) | E7: =IF(2>$Z$1,"",IF('Your debts'!$D$20="Avalanche",'Avalanche workings'!$BB$9,'Snowball workings'!$BB$9)) | F7: =IF(OR(2>$Z$1,NOT(OR('Your debts'!$B$6<>"",N('Your debts'!$C$6)>0))),"",IF('Your debts'!$D$20="Avalanche",'Avalanche workings'!$L$9,'Snowball workings'!$L$9)+IF('Your debts'!$D$20="Avalanche",'Avalanche workings'!$AF$9,'Snowball workings'!$AF$9)) | G7: =IF(OR(2>$Z$1,NOT(OR('Your debts'!$B$6<>"",N('Your debts'!$C$6)>0))),"",IF('Your debts'!$D$20="Avalanche",'Avalanche workings'!$AP$9,'Snowball workings'!$AP$9)) | H7: =IF(OR(2>$Z$1,NOT(OR('Your debts'!$B$7<>"",N('Your debts'!$C$7)>0))),"",IF('Your debts'!$D$20="Avalanche",'Avalanche workings'!$M$9,'Snowball workings'!$M$9)+IF('Your debts'!$D$20="Avalanche",'Avalanche workings'!$AG$9,'Snowball workings'!$AG$9)) | I7: =IF(OR(2>$Z$1,NOT(OR('Your debts'!$B$7<>"",N('Your debts'!$C$7)>0))),"",IF('Your debts'!$D$20="Avalanche",'Avalanche workings'!$AQ$9,'Snowball workings'!$AQ$9)) | J7: =IF(OR(2>$Z$1,NOT(OR('Your debts'!$B$8<>"",N('Your debts'!$C$8)>0))),"",IF('Your debts'!$D$20="Avalanche",'Avalanche workings'!$N$9,'Snowball workings'!$N$9)+IF('Your debts'!$D$20="Avalanche",'Avalanche workings'!$AH$9,'Snowball workings'!$AH$9)) | K7: =IF(OR(2>$Z$1,NOT(OR('Your debts'!$B$8<>"",N('Your debts'!$C$8)>0))),"",IF('Your debts'!$D$20="Avalanche",'Avalanche workings'!$AR$9,'Snowball workings'!$AR$9)) | L7: =IF(OR(2>$Z$1,NOT(OR('Your debts'!$B$9<>"",N('Your debts'!$C$9)>0))),"",IF('Your debts'!$D$20="Avalanche",'Avalanche workings'!$O$9,'Snowball workings'!$O$9)+IF('Your debts'!$D$20="Avalanche",'Avalanche workings'!$AI$9,'Snowball workings'!$AI$9)) | M7: =IF(OR(2>$Z$1,NOT(OR('Your debts'!$B$9<>"",N('Your debts'!$C$9)>0))),"",IF('Your debts'!$D$20="Avalanche",'Avalanche workings'!$AS$9,'Snowball workings'!$AS$9)) | N7: =IF(OR(2>$Z$1,NOT(OR('Your debts'!$B$10<>"",N('Your debts'!$C$10)>0))),"",IF('Your debts'!$D$20="Avalanche",'Avalanche workings'!$P$9,'Snowball workings'!$P$9)+IF('Your debts'!$D$20="Avalanche",'Avalanche workings'!$AJ$9,'Snowball workings'!$AJ$9)) | O7: =IF(OR(2>$Z$1,NOT(OR('Your debts'!$B$10<>"",N('Your debts'!$C$10)>0))),"",IF('Your debts'!$D$20="Avalanche",'Avalanche workings'!$AT$9,'Snowball workings'!$AT$9)) | P7: =IF(OR(2>$Z$1,NOT(OR('Your debts'!$B$11<>"",N('Your debts'!$C$11)>0))),"",IF('Your debts'!$D$20="Avalanche",'Avalanche workings'!$Q$9,'Snowball workings'!$Q$9)+IF('Your debts'!$D$20="Avalanche",'Avalanche workings'!$AK$9,'Snowball workings'!$AK$9)) | Q7: =IF(OR(2>$Z$1,NOT(OR('Your debts'!$B$11<>"",N('Your debts'!$C$11)>0))),"",IF('Your debts'!$D$20="Avalanche",'Avalanche workings'!$AU$9,'Snowball workings'!$AU$9)) | R7: =IF(OR(2>$Z$1,NOT(OR('Your debts'!$B$12<>"",N('Your debts'!$C$12)>0))),"",IF('Your debts'!$D$20="Avalanche",'Avalanche workings'!$R$9,'Snowball workings'!$R$9)+IF('Your debts'!$D$20="Avalanche",'Avalanche workings'!$AL$9,'Snowball workings'!$AL$9)) | S7: =IF(OR(2>$Z$1,NOT(OR('Your debts'!$B$12<>"",N('Your debts'!$C$12)>0))),"",IF('Your debts'!$D$20="Avalanche",'Avalanche workings'!$AV$9,'Snowball workings'!$AV$9)) | T7: =IF(OR(2>$Z$1,NOT(OR('Your debts'!$B$13<>"",N('Your debts'!$C$13)>0))),"",IF('Your debts'!$D$20="Avalanche",'Avalanche workings'!$S$9,'Snowball workings'!$S$9)+IF('Your debts'!$D$20="Avalanche",'Avalanche workings'!$AM$9,'Snowball workings'!$AM$9)) | U7: =IF(OR(2>$Z$1,NOT(OR('Your debts'!$B$13<>"",N('Your debts'!$C$13)>0))),"",IF('Your debts'!$D$20="Avalanche",'Avalanche workings'!$AW$9,'Snowball workings'!$AW$9)) | V7: =IF(OR(2>$Z$1,NOT(OR('Your debts'!$B$14<>"",N('Your debts'!$C$14)>0))),"",IF('Your debts'!$D$20="Avalanche",'Avalanche workings'!$T$9,'Snowball workings'!$T$9)+IF('Your debts'!$D$20="Avalanche",'Avalanche workings'!$AN$9,'Snowball workings'!$AN$9)) | W7: =IF(OR(2>$Z$1,NOT(OR('Your debts'!$B$14<>"",N('Your debts'!$C$14)>0))),"",IF('Your debts'!$D$20="Avalanche",'Avalanche workings'!$AX$9,'Snowball workings'!$AX$9)) | X7: =IF(OR(2>$Z$1,NOT(OR('Your debts'!$B$15<>"",N('Your debts'!$C$15)>0))),"",IF('Your debts'!$D$20="Avalanche",'Avalanche workings'!$U$9,'Snowball workings'!$U$9)+IF('Your debts'!$D$20="Avalanche",'Avalanche workings'!$AO$9,'Snowball workings'!$AO$9)) | Y7: =IF(OR(2>$Z$1,NOT(OR('Your debts'!$B$15<>"",N('Your debts'!$C$15)>0))),"",IF('Your debts'!$D$20="Avalanche",'Avalanche workings'!$AY$9,'Snowball workings'!$AY$9))
A8: =IF(3>$Z$1,"",3) | B8: =IF(3>$Z$1,"",EDATE('Your debts'!$D$21,2)) | C8: =IF(3>$Z$1,"",IF('Your debts'!$D$20="Avalanche",'Avalanche workings'!$BC$10,'Snowball workings'!$BC$10)) | D8: =IF(3>$Z$1,"",IF('Your debts'!$D$20="Avalanche",'Avalanche workings'!$BA$10,'Snowball workings'!$BA$10)) | E8: =IF(3>$Z$1,"",IF('Your debts'!$D$20="Avalanche",'Avalanche workings'!$BB$10,'Snowball workings'!$BB$10)) | F8: =IF(OR(3>$Z$1,NOT(OR('Your debts'!$B$6<>"",N('Your debts'!$C$6)>0))),"",IF('Your debts'!$D$20="Avalanche",'Avalanche workings'!$L$10,'Snowball workings'!$L$10)+IF('Your debts'!$D$20="Avalanche",'Avalanche workings'!$AF$10,'Snowball workings'!$AF$10)) | G8: =IF(OR(3>$Z$1,NOT(OR('Your debts'!$B$6<>"",N('Your debts'!$C$6)>0))),"",IF('Your debts'!$D$20="Avalanche",'Avalanche workings'!$AP$10,'Snowball workings'!$AP$10)) | H8: =IF(OR(3>$Z$1,NOT(OR('Your debts'!$B$7<>"",N('Your debts'!$C$7)>0))),"",IF('Your debts'!$D$20="Avalanche",'Avalanche workings'!$M$10,'Snowball workings'!$M$10)+IF('Your debts'!$D$20="Avalanche",'Avalanche workings'!$AG$10,'Snowball workings'!$AG$10)) | I8: =IF(OR(3>$Z$1,NOT(OR('Your debts'!$B$7<>"",N('Your debts'!$C$7)>0))),"",IF('Your debts'!$D$20="Avalanche",'Avalanche workings'!$AQ$10,'Snowball workings'!$AQ$10)) | J8: =IF(OR(3>$Z$1,NOT(OR('Your debts'!$B$8<>"",N('Your debts'!$C$8)>0))),"",IF('Your debts'!$D$20="Avalanche",'Avalanche workings'!$N$10,'Snowball workings'!$N$10)+IF('Your debts'!$D$20="Avalanche",'Avalanche workings'!$AH$10,'Snowball workings'!$AH$10)) | K8: =IF(OR(3>$Z$1,NOT(OR('Your debts'!$B$8<>"",N('Your debts'!$C$8)>0))),"",IF('Your debts'!$D$20="Avalanche",'Avalanche workings'!$AR$10,'Snowball workings'!$AR$10)) | L8: =IF(OR(3>$Z$1,NOT(OR('Your debts'!$B$9<>"",N('Your debts'!$C$9)>0))),"",IF('Your debts'!$D$20="Avalanche",'Avalanche workings'!$O$10,'Snowball workings'!$O$10)+IF('Your debts'!$D$20="Avalanche",'Avalanche workings'!$AI$10,'Snowball workings'!$AI$10)) | M8: =IF(OR(3>$Z$1,NOT(OR('Your debts'!$B$9<>"",N('Your debts'!$C$9)>0))),"",IF('Your debts'!$D$20="Avalanche",'Avalanche workings'!$AS$10,'Snowball workings'!$AS$10)) | N8: =IF(OR(3>$Z$1,NOT(OR('Your debts'!$B$10<>"",N('Your debts'!$C$10)>0))),"",IF('Your debts'!$D$20="Avalanche",'Avalanche workings'!$P$10,'Snowball workings'!$P$10)+IF('Your debts'!$D$20="Avalanche",'Avalanche workings'!$AJ$10,'Snowball workings'!$AJ$10)) | O8: =IF(OR(3>$Z$1,NOT(OR('Your debts'!$B$10<>"",N('Your debts'!$C$10)>0))),"",IF('Your debts'!$D$20="Avalanche",'Avalanche workings'!$AT$10,'Snowball workings'!$AT$10)) | P8: =IF(OR(3>$Z$1,NOT(OR('Your debts'!$B$11<>"",N('Your debts'!$C$11)>0))),"",IF('Your debts'!$D$20="Avalanche",'Avalanche workings'!$Q$10,'Snowball workings'!$Q$10)+IF('Your debts'!$D$20="Avalanche",'Avalanche workings'!$AK$10,'Snowball workings'!$AK$10)) | Q8: =IF(OR(3>$Z$1,NOT(OR('Your debts'!$B$11<>"",N('Your debts'!$C$11)>0))),"",IF('Your debts'!$D$20="Avalanche",'Avalanche workings'!$AU$10,'Snowball workings'!$AU$10)) | R8: =IF(OR(3>$Z$1,NOT(OR('Your debts'!$B$12<>"",N('Your debts'!$C$12)>0))),"",IF('Your debts'!$D$20="Avalanche",'Avalanche workings'!$R$10,'Snowball workings'!$R$10)+IF('Your debts'!$D$20="Avalanche",'Avalanche workings'!$AL$10,'Snowball workings'!$AL$10)) | S8: =IF(OR(3>$Z$1,NOT(OR('Your debts'!$B$12<>"",N('Your debts'!$C$12)>0))),"",IF('Your debts'!$D$20="Avalanche",'Avalanche workings'!$AV$10,'Snowball workings'!$AV$10)) | T8: =IF(OR(3>$Z$1,NOT(OR('Your debts'!$B$13<>"",N('Your debts'!$C$13)>0))),"",IF('Your debts'!$D$20="Avalanche",'Avalanche workings'!$S$10,'Snowball workings'!$S$10)+IF('Your debts'!$D$20="Avalanche",'Avalanche workings'!$AM$10,'Snowball workings'!$AM$10)) | U8: =IF(OR(3>$Z$1,NOT(OR('Your debts'!$B$13<>"",N('Your debts'!$C$13)>0))),"",IF('Your debts'!$D$20="Avalanche",'Avalanche workings'!$AW$10,'Snowball workings'!$AW$10)) | V8: =IF(OR(3>$Z$1,NOT(OR('Your debts'!$B$14<>"",N('Your debts'!$C$14)>0))),"",IF('Your debts'!$D$20="Avalanche",'Avalanche workings'!$T$10,'Snowball workings'!$T$10)+IF('Your debts'!$D$20="Avalanche",'Avalanche workings'!$AN$10,'Snowball workings'!$AN$10)) | W8: =IF(OR(3>$Z$1,NOT(OR('Your debts'!$B$14<>"",N('Your debts'!$C$14)>0))),"",IF('Your debts'!$D$20="Avalanche",'Avalanche workings'!$AX$10,'Snowball workings'!$AX$10)) | X8: =IF(OR(3>$Z$1,NOT(OR('Your debts'!$B$15<>"",N('Your debts'!$C$15)>0))),"",IF('Your debts'!$D$20="Avalanche",'Avalanche workings'!$U$10,'Snowball workings'!$U$10)+IF('Your debts'!$D$20="Avalanche",'Avalanche workings'!$AO$10,'Snowball workings'!$AO$10)) | Y8: =IF(OR(3>$Z$1,NOT(OR('Your debts'!$B$15<>"",N('Your debts'!$C$15)>0))),"",IF('Your debts'!$D$20="Avalanche",'Avalanche workings'!$AY$10,'Snowball workings'!$AY$10))
A9: =IF(4>$Z$1,"",4) | B9: =IF(4>$Z$1,"",EDATE('Your debts'!$D$21,3)) | C9: =IF(4>$Z$1,"",IF('Your debts'!$D$20="Avalanche",'Avalanche workings'!$BC$11,'Snowball workings'!$BC$11)) | D9: =IF(4>$Z$1,"",IF('Your debts'!$D$20="Avalanche",'Avalanche workings'!$BA$11,'Snowball workings'!$BA$11)) | E9: =IF(4>$Z$1,"",IF('Your debts'!$D$20="Avalanche",'Avalanche workings'!$BB$11,'Snowball workings'!$BB$11)) | F9: =IF(OR(4>$Z$1,NOT(OR('Your debts'!$B$6<>"",N('Your debts'!$C$6)>0))),"",IF('Your debts'!$D$20="Avalanche",'Avalanche workings'!$L$11,'Snowball workings'!$L$11)+IF('Your debts'!$D$20="Avalanche",'Avalanche workings'!$AF$11,'Snowball workings'!$AF$11)) | G9: =IF(OR(4>$Z$1,NOT(OR('Your debts'!$B$6<>"",N('Your debts'!$C$6)>0))),"",IF('Your debts'!$D$20="Avalanche",'Avalanche workings'!$AP$11,'Snowball workings'!$AP$11)) | H9: =IF(OR(4>$Z$1,NOT(OR('Your debts'!$B$7<>"",N('Your debts'!$C$7)>0))),"",IF('Your debts'!$D$20="Avalanche",'Avalanche workings'!$M$11,'Snowball workings'!$M$11)+IF('Your debts'!$D$20="Avalanche",'Avalanche workings'!$AG$11,'Snowball workings'!$AG$11)) | I9: =IF(OR(4>$Z$1,NOT(OR('Your debts'!$B$7<>"",N('Your debts'!$C$7)>0))),"",IF('Your debts'!$D$20="Avalanche",'Avalanche workings'!$AQ$11,'Snowball workings'!$AQ$11)) | J9: =IF(OR(4>$Z$1,NOT(OR('Your debts'!$B$8<>"",N('Your debts'!$C$8)>0))),"",IF('Your debts'!$D$20="Avalanche",'Avalanche workings'!$N$11,'Snowball workings'!$N$11)+IF('Your debts'!$D$20="Avalanche",'Avalanche workings'!$AH$11,'Snowball workings'!$AH$11)) | K9: =IF(OR(4>$Z$1,NOT(OR('Your debts'!$B$8<>"",N('Your debts'!$C$8)>0))),"",IF('Your debts'!$D$20="Avalanche",'Avalanche workings'!$AR$11,'Snowball workings'!$AR$11)) | L9: =IF(OR(4>$Z$1,NOT(OR('Your debts'!$B$9<>"",N('Your debts'!$C$9)>0))),"",IF('Your debts'!$D$20="Avalanche",'Avalanche workings'!$O$11,'Snowball workings'!$O$11)+IF('Your debts'!$D$20="Avalanche",'Avalanche workings'!$AI$11,'Snowball workings'!$AI$11)) | M9: =IF(OR(4>$Z$1,NOT(OR('Your debts'!$B$9<>"",N('Your debts'!$C$9)>0))),"",IF('Your debts'!$D$20="Avalanche",'Avalanche workings'!$AS$11,'Snowball workings'!$AS$11)) | N9: =IF(OR(4>$Z$1,NOT(OR('Your debts'!$B$10<>"",N('Your debts'!$C$10)>0))),"",IF('Your debts'!$D$20="Avalanche",'Avalanche workings'!$P$11,'Snowball workings'!$P$11)+IF('Your debts'!$D$20="Avalanche",'Avalanche workings'!$AJ$11,'Snowball workings'!$AJ$11)) | O9: =IF(OR(4>$Z$1,NOT(OR('Your debts'!$B$10<>"",N('Your debts'!$C$10)>0))),"",IF('Your debts'!$D$20="Avalanche",'Avalanche workings'!$AT$11,'Snowball workings'!$AT$11)) | P9: =IF(OR(4>$Z$1,NOT(OR('Your debts'!$B$11<>"",N('Your debts'!$C$11)>0))),"",IF('Your debts'!$D$20="Avalanche",'Avalanche workings'!$Q$11,'Snowball workings'!$Q$11)+IF('Your debts'!$D$20="Avalanche",'Avalanche workings'!$AK$11,'Snowball workings'!$AK$11)) | Q9: =IF(OR(4>$Z$1,NOT(OR('Your debts'!$B$11<>"",N('Your debts'!$C$11)>0))),"",IF('Your debts'!$D$20="Avalanche",'Avalanche workings'!$AU$11,'Snowball workings'!$AU$11)) | R9: =IF(OR(4>$Z$1,NOT(OR('Your debts'!$B$12<>"",N('Your debts'!$C$12)>0))),"",IF('Your debts'!$D$20="Avalanche",'Avalanche workings'!$R$11,'Snowball workings'!$R$11)+IF('Your debts'!$D$20="Avalanche",'Avalanche workings'!$AL$11,'Snowball workings'!$AL$11)) | S9: =IF(OR(4>$Z$1,NOT(OR('Your debts'!$B$12<>"",N('Your debts'!$C$12)>0))),"",IF('Your debts'!$D$20="Avalanche",'Avalanche workings'!$AV$11,'Snowball workings'!$AV$11)) | T9: =IF(OR(4>$Z$1,NOT(OR('Your debts'!$B$13<>"",N('Your debts'!$C$13)>0))),"",IF('Your debts'!$D$20="Avalanche",'Avalanche workings'!$S$11,'Snowball workings'!$S$11)+IF('Your debts'!$D$20="Avalanche",'Avalanche workings'!$AM$11,'Snowball workings'!$AM$11)) | U9: =IF(OR(4>$Z$1,NOT(OR('Your debts'!$B$13<>"",N('Your debts'!$C$13)>0))),"",IF('Your debts'!$D$20="Avalanche",'Avalanche workings'!$AW$11,'Snowball workings'!$AW$11)) | V9: =IF(OR(4>$Z$1,NOT(OR('Your debts'!$B$14<>"",N('Your debts'!$C$14)>0))),"",IF('Your debts'!$D$20="Avalanche",'Avalanche workings'!$T$11,'Snowball workings'!$T$11)+IF('Your debts'!$D$20="Avalanche",'Avalanche workings'!$AN$11,'Snowball workings'!$AN$11)) | W9: =IF(OR(4>$Z$1,NOT(OR('Your debts'!$B$14<>"",N('Your debts'!$C$14)>0))),"",IF('Your debts'!$D$20="Avalanche",'Avalanche workings'!$AX$11,'Snowball workings'!$AX$11)) | X9: =IF(OR(4>$Z$1,NOT(OR('Your debts'!$B$15<>"",N('Your debts'!$C$15)>0))),"",IF('Your debts'!$D$20="Avalanche",'Avalanche workings'!$U$11,'Snowball workings'!$U$11)+IF('Your debts'!$D$20="Avalanche",'Avalanche workings'!$AO$11,'Snowball workings'!$AO$11)) | Y9: =IF(OR(4>$Z$1,NOT(OR('Your debts'!$B$15<>"",N('Your debts'!$C$15)>0))),"",IF('Your debts'!$D$20="Avalanche",'Avalanche workings'!$AY$11,'Snowball workings'!$AY$11))
A10: =IF(5>$Z$1,"",5) | B10: =IF(5>$Z$1,"",EDATE('Your debts'!$D$21,4)) | C10: =IF(5>$Z$1,"",IF('Your debts'!$D$20="Avalanche",'Avalanche workings'!$BC$12,'Snowball workings'!$BC$12)) | D10: =IF(5>$Z$1,"",IF('Your debts'!$D$20="Avalanche",'Avalanche workings'!$BA$12,'Snowball workings'!$BA$12)) | E10: =IF(5>$Z$1,"",IF('Your debts'!$D$20="Avalanche",'Avalanche workings'!$BB$12,'Snowball workings'!$BB$12)) | F10: =IF(OR(5>$Z$1,NOT(OR('Your debts'!$B$6<>"",N('Your debts'!$C$6)>0))),"",IF('Your debts'!$D$20="Avalanche",'Avalanche workings'!$L$12,'Snowball workings'!$L$12)+IF('Your debts'!$D$20="Avalanche",'Avalanche workings'!$AF$12,'Snowball workings'!$AF$12)) | G10: =IF(OR(5>$Z$1,NOT(OR('Your debts'!$B$6<>"",N('Your debts'!$C$6)>0))),"",IF('Your debts'!$D$20="Avalanche",'Avalanche workings'!$AP$12,'Snowball workings'!$AP$12)) | H10: =IF(OR(5>$Z$1,NOT(OR('Your debts'!$B$7<>"",N('Your debts'!$C$7)>0))),"",IF('Your debts'!$D$20="Avalanche",'Avalanche workings'!$M$12,'Snowball workings'!$M$12)+IF('Your debts'!$D$20="Avalanche",'Avalanche workings'!$AG$12,'Snowball workings'!$AG$12)) | I10: =IF(OR(5>$Z$1,NOT(OR('Your debts'!$B$7<>"",N('Your debts'!$C$7)>0))),"",IF('Your debts'!$D$20="Avalanche",'Avalanche workings'!$AQ$12,'Snowball workings'!$AQ$12)) | J10: =IF(OR(5>$Z$1,NOT(OR('Your debts'!$B$8<>"",N('Your debts'!$C$8)>0))),"",IF('Your debts'!$D$20="Avalanche",'Avalanche workings'!$N$12,'Snowball workings'!$N$12)+IF('Your debts'!$D$20="Avalanche",'Avalanche workings'!$AH$12,'Snowball workings'!$AH$12)) | K10: =IF(OR(5>$Z$1,NOT(OR('Your debts'!$B$8<>"",N('Your debts'!$C$8)>0))),"",IF('Your debts'!$D$20="Avalanche",'Avalanche workings'!$AR$12,'Snowball workings'!$AR$12)) | L10: =IF(OR(5>$Z$1,NOT(OR('Your debts'!$B$9<>"",N('Your debts'!$C$9)>0))),"",IF('Your debts'!$D$20="Avalanche",'Avalanche workings'!$O$12,'Snowball workings'!$O$12)+IF('Your debts'!$D$20="Avalanche",'Avalanche workings'!$AI$12,'Snowball workings'!$AI$12)) | M10: =IF(OR(5>$Z$1,NOT(OR('Your debts'!$B$9<>"",N('Your debts'!$C$9)>0))),"",IF('Your debts'!$D$20="Avalanche",'Avalanche workings'!$AS$12,'Snowball workings'!$AS$12)) | N10: =IF(OR(5>$Z$1,NOT(OR('Your debts'!$B$10<>"",N('Your debts'!$C$10)>0))),"",IF('Your debts'!$D$20="Avalanche",'Avalanche workings'!$P$12,'Snowball workings'!$P$12)+IF('Your debts'!$D$20="Avalanche",'Avalanche workings'!$AJ$12,'Snowball workings'!$AJ$12)) | O10: =IF(OR(5>$Z$1,NOT(OR('Your debts'!$B$10<>"",N('Your debts'!$C$10)>0))),"",IF('Your debts'!$D$20="Avalanche",'Avalanche workings'!$AT$12,'Snowball workings'!$AT$12)) | P10: =IF(OR(5>$Z$1,NOT(OR('Your debts'!$B$11<>"",N('Your debts'!$C$11)>0))),"",IF('Your debts'!$D$20="Avalanche",'Avalanche workings'!$Q$12,'Snowball workings'!$Q$12)+IF('Your debts'!$D$20="Avalanche",'Avalanche workings'!$AK$12,'Snowball workings'!$AK$12)) | Q10: =IF(OR(5>$Z$1,NOT(OR('Your debts'!$B$11<>"",N('Your debts'!$C$11)>0))),"",IF('Your debts'!$D$20="Avalanche",'Avalanche workings'!$AU$12,'Snowball workings'!$AU$12)) | R10: =IF(OR(5>$Z$1,NOT(OR('Your debts'!$B$12<>"",N('Your debts'!$C$12)>0))),"",IF('Your debts'!$D$20="Avalanche",'Avalanche workings'!$R$12,'Snowball workings'!$R$12)+IF('Your debts'!$D$20="Avalanche",'Avalanche workings'!$AL$12,'Snowball workings'!$AL$12)) | S10: =IF(OR(5>$Z$1,NOT(OR('Your debts'!$B$12<>"",N('Your debts'!$C$12)>0))),"",IF('Your debts'!$D$20="Avalanche",'Avalanche workings'!$AV$12,'Snowball workings'!$AV$12)) | T10: =IF(OR(5>$Z$1,NOT(OR('Your debts'!$B$13<>"",N('Your debts'!$C$13)>0))),"",IF('Your debts'!$D$20="Avalanche",'Avalanche workings'!$S$12,'Snowball workings'!$S$12)+IF('Your debts'!$D$20="Avalanche",'Avalanche workings'!$AM$12,'Snowball workings'!$AM$12)) | U10: =IF(OR(5>$Z$1,NOT(OR('Your debts'!$B$13<>"",N('Your debts'!$C$13)>0))),"",IF('Your debts'!$D$20="Avalanche",'Avalanche workings'!$AW$12,'Snowball workings'!$AW$12)) | V10: =IF(OR(5>$Z$1,NOT(OR('Your debts'!$B$14<>"",N('Your debts'!$C$14)>0))),"",IF('Your debts'!$D$20="Avalanche",'Avalanche workings'!$T$12,'Snowball workings'!$T$12)+IF('Your debts'!$D$20="Avalanche",'Avalanche workings'!$AN$12,'Snowball workings'!$AN$12)) | W10: =IF(OR(5>$Z$1,NOT(OR('Your debts'!$B$14<>"",N('Your debts'!$C$14)>0))),"",IF('Your debts'!$D$20="Avalanche",'Avalanche workings'!$AX$12,'Snowball workings'!$AX$12)) | X10: =IF(OR(5>$Z$1,NOT(OR('Your debts'!$B$15<>"",N('Your debts'!$C$15)>0))),"",IF('Your debts'!$D$20="Avalanche",'Avalanche workings'!$U$12,'Snowball workings'!$U$12)+IF('Your debts'!$D$20="Avalanche",'Avalanche workings'!$AO$12,'Snowball workings'!$AO$12)) | Y10: =IF(OR(5>$Z$1,NOT(OR('Your debts'!$B$15<>"",N('Your debts'!$C$15)>0))),"",IF('Your debts'!$D$20="Avalanche",'Avalanche workings'!$AY$12,'Snowball workings'!$AY$12))
A11: =IF(6>$Z$1,"",6) | B11: =IF(6>$Z$1,"",EDATE('Your debts'!$D$21,5)) | C11: =IF(6>$Z$1,"",IF('Your debts'!$D$20="Avalanche",'Avalanche workings'!$BC$13,'Snowball workings'!$BC$13)) | D11: =IF(6>$Z$1,"",IF('Your debts'!$D$20="Avalanche",'Avalanche workings'!$BA$13,'Snowball workings'!$BA$13)) | E11: =IF(6>$Z$1,"",IF('Your debts'!$D$20="Avalanche",'Avalanche workings'!$BB$13,'Snowball workings'!$BB$13)) | F11: =IF(OR(6>$Z$1,NOT(OR('Your debts'!$B$6<>"",N('Your debts'!$C$6)>0))),"",IF('Your debts'!$D$20="Avalanche",'Avalanche workings'!$L$13,'Snowball workings'!$L$13)+IF('Your debts'!$D$20="Avalanche",'Avalanche workings'!$AF$13,'Snowball workings'!$AF$13)) | G11: =IF(OR(6>$Z$1,NOT(OR('Your debts'!$B$6<>"",N('Your debts'!$C$6)>0))),"",IF('Your debts'!$D$20="Avalanche",'Avalanche workings'!$AP$13,'Snowball workings'!$AP$13)) | H11: =IF(OR(6>$Z$1,NOT(OR('Your debts'!$B$7<>"",N('Your debts'!$C$7)>0))),"",IF('Your debts'!$D$20="Avalanche",'Avalanche workings'!$M$13,'Snowball workings'!$M$13)+IF('Your debts'!$D$20="Avalanche",'Avalanche workings'!$AG$13,'Snowball workings'!$AG$13)) | I11: =IF(OR(6>$Z$1,NOT(OR('Your debts'!$B$7<>"",N('Your debts'!$C$7)>0))),"",IF('Your debts'!$D$20="Avalanche",'Avalanche workings'!$AQ$13,'Snowball workings'!$AQ$13)) | J11: =IF(OR(6>$Z$1,NOT(OR('Your debts'!$B$8<>"",N('Your debts'!$C$8)>0))),"",IF('Your debts'!$D$20="Avalanche",'Avalanche workings'!$N$13,'Snowball workings'!$N$13)+IF('Your debts'!$D$20="Avalanche",'Avalanche workings'!$AH$13,'Snowball workings'!$AH$13)) | K11: =IF(OR(6>$Z$1,NOT(OR('Your debts'!$B$8<>"",N('Your debts'!$C$8)>0))),"",IF('Your debts'!$D$20="Avalanche",'Avalanche workings'!$AR$13,'Snowball workings'!$AR$13)) | L11: =IF(OR(6>$Z$1,NOT(OR('Your debts'!$B$9<>"",N('Your debts'!$C$9)>0))),"",IF('Your debts'!$D$20="Avalanche",'Avalanche workings'!$O$13,'Snowball workings'!$O$13)+IF('Your debts'!$D$20="Avalanche",'Avalanche workings'!$AI$13,'Snowball workings'!$AI$13)) | M11: =IF(OR(6>$Z$1,NOT(OR('Your debts'!$B$9<>"",N('Your debts'!$C$9)>0))),"",IF('Your debts'!$D$20="Avalanche",'Avalanche workings'!$AS$13,'Snowball workings'!$AS$13)) | N11: =IF(OR(6>$Z$1,NOT(OR('Your debts'!$B$10<>"",N('Your debts'!$C$10)>0))),"",IF('Your debts'!$D$20="Avalanche",'Avalanche workings'!$P$13,'Snowball workings'!$P$13)+IF('Your debts'!$D$20="Avalanche",'Avalanche workings'!$AJ$13,'Snowball workings'!$AJ$13)) | O11: =IF(OR(6>$Z$1,NOT(OR('Your debts'!$B$10<>"",N('Your debts'!$C$10)>0))),"",IF('Your debts'!$D$20="Avalanche",'Avalanche workings'!$AT$13,'Snowball workings'!$AT$13)) | P11: =IF(OR(6>$Z$1,NOT(OR('Your debts'!$B$11<>"",N('Your debts'!$C$11)>0))),"",IF('Your debts'!$D$20="Avalanche",'Avalanche workings'!$Q$13,'Snowball workings'!$Q$13)+IF('Your debts'!$D$20="Avalanche",'Avalanche workings'!$AK$13,'Snowball workings'!$AK$13)) | Q11: =IF(OR(6>$Z$1,NOT(OR('Your debts'!$B$11<>"",N('Your debts'!$C$11)>0))),"",IF('Your debts'!$D$20="Avalanche",'Avalanche workings'!$AU$13,'Snowball workings'!$AU$13)) | R11: =IF(OR(6>$Z$1,NOT(OR('Your debts'!$B$12<>"",N('Your debts'!$C$12)>0))),"",IF('Your debts'!$D$20="Avalanche",'Avalanche workings'!$R$13,'Snowball workings'!$R$13)+IF('Your debts'!$D$20="Avalanche",'Avalanche workings'!$AL$13,'Snowball workings'!$AL$13)) | S11: =IF(OR(6>$Z$1,NOT(OR('Your debts'!$B$12<>"",N('Your debts'!$C$12)>0))),"",IF('Your debts'!$D$20="Avalanche",'Avalanche workings'!$AV$13,'Snowball workings'!$AV$13)) | T11: =IF(OR(6>$Z$1,NOT(OR('Your debts'!$B$13<>"",N('Your debts'!$C$13)>0))),"",IF('Your debts'!$D$20="Avalanche",'Avalanche workings'!$S$13,'Snowball workings'!$S$13)+IF('Your debts'!$D$20="Avalanche",'Avalanche workings'!$AM$13,'Snowball workings'!$AM$13)) | U11: =IF(OR(6>$Z$1,NOT(OR('Your debts'!$B$13<>"",N('Your debts'!$C$13)>0))),"",IF('Your debts'!$D$20="Avalanche",'Avalanche workings'!$AW$13,'Snowball workings'!$AW$13)) | V11: =IF(OR(6>$Z$1,NOT(OR('Your debts'!$B$14<>"",N('Your debts'!$C$14)>0))),"",IF('Your debts'!$D$20="Avalanche",'Avalanche workings'!$T$13,'Snowball workings'!$T$13)+IF('Your debts'!$D$20="Avalanche",'Avalanche workings'!$AN$13,'Snowball workings'!$AN$13)) | W11: =IF(OR(6>$Z$1,NOT(OR('Your debts'!$B$14<>"",N('Your debts'!$C$14)>0))),"",IF('Your debts'!$D$20="Avalanche",'Avalanche workings'!$AX$13,'Snowball workings'!$AX$13)) | X11: =IF(OR(6>$Z$1,NOT(OR('Your debts'!$B$15<>"",N('Your debts'!$C$15)>0))),"",IF('Your debts'!$D$20="Avalanche",'Avalanche workings'!$U$13,'Snowball workings'!$U$13)+IF('Your debts'!$D$20="Avalanche",'Avalanche workings'!$AO$13,'Snowball workings'!$AO$13)) | Y11: =IF(OR(6>$Z$1,NOT(OR('Your debts'!$B$15<>"",N('Your debts'!$C$15)>0))),"",IF('Your debts'!$D$20="Avalanche",'Avalanche workings'!$AY$13,'Snowball workings'!$AY$13))
A12: =IF(7>$Z$1,"",7) | B12: =IF(7>$Z$1,"",EDATE('Your debts'!$D$21,6)) | C12: =IF(7>$Z$1,"",IF('Your debts'!$D$20="Avalanche",'Avalanche workings'!$BC$14,'Snowball workings'!$BC$14)) | D12: =IF(7>$Z$1,"",IF('Your debts'!$D$20="Avalanche",'Avalanche workings'!$BA$14,'Snowball workings'!$BA$14)) | E12: =IF(7>$Z$1,"",IF('Your debts'!$D$20="Avalanche",'Avalanche workings'!$BB$14,'Snowball workings'!$BB$14)) | F12: =IF(OR(7>$Z$1,NOT(OR('Your debts'!$B$6<>"",N('Your debts'!$C$6)>0))),"",IF('Your debts'!$D$20="Avalanche",'Avalanche workings'!$L$14,'Snowball workings'!$L$14)+IF('Your debts'!$D$20="Avalanche",'Avalanche workings'!$AF$14,'Snowball workings'!$AF$14)) | G12: =IF(OR(7>$Z$1,NOT(OR('Your debts'!$B$6<>"",N('Your debts'!$C$6)>0))),"",IF('Your debts'!$D$20="Avalanche",'Avalanche workings'!$AP$14,'Snowball workings'!$AP$14)) | H12: =IF(OR(7>$Z$1,NOT(OR('Your debts'!$B$7<>"",N('Your debts'!$C$7)>0))),"",IF('Your debts'!$D$20="Avalanche",'Avalanche workings'!$M$14,'Snowball workings'!$M$14)+IF('Your debts'!$D$20="Avalanche",'Avalanche workings'!$AG$14,'Snowball workings'!$AG$14)) | I12: =IF(OR(7>$Z$1,NOT(OR('Your debts'!$B$7<>"",N('Your debts'!$C$7)>0))),"",IF('Your debts'!$D$20="Avalanche",'Avalanche workings'!$AQ$14,'Snowball workings'!$AQ$14)) | J12: =IF(OR(7>$Z$1,NOT(OR('Your debts'!$B$8<>"",N('Your debts'!$C$8)>0))),"",IF('Your debts'!$D$20="Avalanche",'Avalanche workings'!$N$14,'Snowball workings'!$N$14)+IF('Your debts'!$D$20="Avalanche",'Avalanche workings'!$AH$14,'Snowball workings'!$AH$14)) | K12: =IF(OR(7>$Z$1,NOT(OR('Your debts'!$B$8<>"",N('Your debts'!$C$8)>0))),"",IF('Your debts'!$D$20="Avalanche",'Avalanche workings'!$AR$14,'Snowball workings'!$AR$14)) | L12: =IF(OR(7>$Z$1,NOT(OR('Your debts'!$B$9<>"",N('Your debts'!$C$9)>0))),"",IF('Your debts'!$D$20="Avalanche",'Avalanche workings'!$O$14,'Snowball workings'!$O$14)+IF('Your debts'!$D$20="Avalanche",'Avalanche workings'!$AI$14,'Snowball workings'!$AI$14)) | M12: =IF(OR(7>$Z$1,NOT(OR('Your debts'!$B$9<>"",N('Your debts'!$C$9)>0))),"",IF('Your debts'!$D$20="Avalanche",'Avalanche workings'!$AS$14,'Snowball workings'!$AS$14)) | N12: =IF(OR(7>$Z$1,NOT(OR('Your debts'!$B$10<>"",N('Your debts'!$C$10)>0))),"",IF('Your debts'!$D$20="Avalanche",'Avalanche workings'!$P$14,'Snowball workings'!$P$14)+IF('Your debts'!$D$20="Avalanche",'Avalanche workings'!$AJ$14,'Snowball workings'!$AJ$14)) | O12: =IF(OR(7>$Z$1,NOT(OR('Your debts'!$B$10<>"",N('Your debts'!$C$10)>0))),"",IF('Your debts'!$D$20="Avalanche",'Avalanche workings'!$AT$14,'Snowball workings'!$AT$14)) | P12: =IF(OR(7>$Z$1,NOT(OR('Your debts'!$B$11<>"",N('Your debts'!$C$11)>0))),"",IF('Your debts'!$D$20="Avalanche",'Avalanche workings'!$Q$14,'Snowball workings'!$Q$14)+IF('Your debts'!$D$20="Avalanche",'Avalanche workings'!$AK$14,'Snowball workings'!$AK$14)) | Q12: =IF(OR(7>$Z$1,NOT(OR('Your debts'!$B$11<>"",N('Your debts'!$C$11)>0))),"",IF('Your debts'!$D$20="Avalanche",'Avalanche workings'!$AU$14,'Snowball workings'!$AU$14)) | R12: =IF(OR(7>$Z$1,NOT(OR('Your debts'!$B$12<>"",N('Your debts'!$C$12)>0))),"",IF('Your debts'!$D$20="Avalanche",'Avalanche workings'!$R$14,'Snowball workings'!$R$14)+IF('Your debts'!$D$20="Avalanche",'Avalanche workings'!$AL$14,'Snowball workings'!$AL$14)) | S12: =IF(OR(7>$Z$1,NOT(OR('Your debts'!$B$12<>"",N('Your debts'!$C$12)>0))),"",IF('Your debts'!$D$20="Avalanche",'Avalanche workings'!$AV$14,'Snowball workings'!$AV$14)) | T12: =IF(OR(7>$Z$1,NOT(OR('Your debts'!$B$13<>"",N('Your debts'!$C$13)>0))),"",IF('Your debts'!$D$20="Avalanche",'Avalanche workings'!$S$14,'Snowball workings'!$S$14)+IF('Your debts'!$D$20="Avalanche",'Avalanche workings'!$AM$14,'Snowball workings'!$AM$14)) | U12: =IF(OR(7>$Z$1,NOT(OR('Your debts'!$B$13<>"",N('Your debts'!$C$13)>0))),"",IF('Your debts'!$D$20="Avalanche",'Avalanche workings'!$AW$14,'Snowball workings'!$AW$14)) | V12: =IF(OR(7>$Z$1,NOT(OR('Your debts'!$B$14<>"",N('Your debts'!$C$14)>0))),"",IF('Your debts'!$D$20="Avalanche",'Avalanche workings'!$T$14,'Snowball workings'!$T$14)+IF('Your debts'!$D$20="Avalanche",'Avalanche workings'!$AN$14,'Snowball workings'!$AN$14)) | W12: =IF(OR(7>$Z$1,NOT(OR('Your debts'!$B$14<>"",N('Your debts'!$C$14)>0))),"",IF('Your debts'!$D$20="Avalanche",'Avalanche workings'!$AX$14,'Snowball workings'!$AX$14)) | X12: =IF(OR(7>$Z$1,NOT(OR('Your debts'!$B$15<>"",N('Your debts'!$C$15)>0))),"",IF('Your debts'!$D$20="Avalanche",'Avalanche workings'!$U$14,'Snowball workings'!$U$14)+IF('Your debts'!$D$20="Avalanche",'Avalanche workings'!$AO$14,'Snowball workings'!$AO$14)) | Y12: =IF(OR(7>$Z$1,NOT(OR('Your debts'!$B$15<>"",N('Your debts'!$C$15)>0))),"",IF('Your debts'!$D$20="Avalanche",'Avalanche workings'!$AY$14,'Snowball workings'!$AY$14))
A13: =IF(8>$Z$1,"",8) | B13: =IF(8>$Z$1,"",EDATE('Your debts'!$D$21,7)) | C13: =IF(8>$Z$1,"",IF('Your debts'!$D$20="Avalanche",'Avalanche workings'!$BC$15,'Snowball workings'!$BC$15)) | D13: =IF(8>$Z$1,"",IF('Your debts'!$D$20="Avalanche",'Avalanche workings'!$BA$15,'Snowball workings'!$BA$15)) | E13: =IF(8>$Z$1,"",IF('Your debts'!$D$20="Avalanche",'Avalanche workings'!$BB$15,'Snowball workings'!$BB$15)) | F13: =IF(OR(8>$Z$1,NOT(OR('Your debts'!$B$6<>"",N('Your debts'!$C$6)>0))),"",IF('Your debts'!$D$20="Avalanche",'Avalanche workings'!$L$15,'Snowball workings'!$L$15)+IF('Your debts'!$D$20="Avalanche",'Avalanche workings'!$AF$15,'Snowball workings'!$AF$15)) | G13: =IF(OR(8>$Z$1,NOT(OR('Your debts'!$B$6<>"",N('Your debts'!$C$6)>0))),"",IF('Your debts'!$D$20="Avalanche",'Avalanche workings'!$AP$15,'Snowball workings'!$AP$15)) | H13: =IF(OR(8>$Z$1,NOT(OR('Your debts'!$B$7<>"",N('Your debts'!$C$7)>0))),"",IF('Your debts'!$D$20="Avalanche",'Avalanche workings'!$M$15,'Snowball workings'!$M$15)+IF('Your debts'!$D$20="Avalanche",'Avalanche workings'!$AG$15,'Snowball workings'!$AG$15)) | I13: =IF(OR(8>$Z$1,NOT(OR('Your debts'!$B$7<>"",N('Your debts'!$C$7)>0))),"",IF('Your debts'!$D$20="Avalanche",'Avalanche workings'!$AQ$15,'Snowball workings'!$AQ$15)) | J13: =IF(OR(8>$Z$1,NOT(OR('Your debts'!$B$8<>"",N('Your debts'!$C$8)>0))),"",IF('Your debts'!$D$20="Avalanche",'Avalanche workings'!$N$15,'Snowball workings'!$N$15)+IF('Your debts'!$D$20="Avalanche",'Avalanche workings'!$AH$15,'Snowball workings'!$AH$15)) | K13: =IF(OR(8>$Z$1,NOT(OR('Your debts'!$B$8<>"",N('Your debts'!$C$8)>0))),"",IF('Your debts'!$D$20="Avalanche",'Avalanche workings'!$AR$15,'Snowball workings'!$AR$15)) | L13: =IF(OR(8>$Z$1,NOT(OR('Your debts'!$B$9<>"",N('Your debts'!$C$9)>0))),"",IF('Your debts'!$D$20="Avalanche",'Avalanche workings'!$O$15,'Snowball workings'!$O$15)+IF('Your debts'!$D$20="Avalanche",'Avalanche workings'!$AI$15,'Snowball workings'!$AI$15)) | M13: =IF(OR(8>$Z$1,NOT(OR('Your debts'!$B$9<>"",N('Your debts'!$C$9)>0))),"",IF('Your debts'!$D$20="Avalanche",'Avalanche workings'!$AS$15,'Snowball workings'!$AS$15)) | N13: =IF(OR(8>$Z$1,NOT(OR('Your debts'!$B$10<>"",N('Your debts'!$C$10)>0))),"",IF('Your debts'!$D$20="Avalanche",'Avalanche workings'!$P$15,'Snowball workings'!$P$15)+IF('Your debts'!$D$20="Avalanche",'Avalanche workings'!$AJ$15,'Snowball workings'!$AJ$15)) | O13: =IF(OR(8>$Z$1,NOT(OR('Your debts'!$B$10<>"",N('Your debts'!$C$10)>0))),"",IF('Your debts'!$D$20="Avalanche",'Avalanche workings'!$AT$15,'Snowball workings'!$AT$15)) | P13: =IF(OR(8>$Z$1,NOT(OR('Your debts'!$B$11<>"",N('Your debts'!$C$11)>0))),"",IF('Your debts'!$D$20="Avalanche",'Avalanche workings'!$Q$15,'Snowball workings'!$Q$15)+IF('Your debts'!$D$20="Avalanche",'Avalanche workings'!$AK$15,'Snowball workings'!$AK$15)) | Q13: =IF(OR(8>$Z$1,NOT(OR('Your debts'!$B$11<>"",N('Your debts'!$C$11)>0))),"",IF('Your debts'!$D$20="Avalanche",'Avalanche workings'!$AU$15,'Snowball workings'!$AU$15)) | R13: =IF(OR(8>$Z$1,NOT(OR('Your debts'!$B$12<>"",N('Your debts'!$C$12)>0))),"",IF('Your debts'!$D$20="Avalanche",'Avalanche workings'!$R$15,'Snowball workings'!$R$15)+IF('Your debts'!$D$20="Avalanche",'Avalanche workings'!$AL$15,'Snowball workings'!$AL$15)) | S13: =IF(OR(8>$Z$1,NOT(OR('Your debts'!$B$12<>"",N('Your debts'!$C$12)>0))),"",IF('Your debts'!$D$20="Avalanche",'Avalanche workings'!$AV$15,'Snowball workings'!$AV$15)) | T13: =IF(OR(8>$Z$1,NOT(OR('Your debts'!$B$13<>"",N('Your debts'!$C$13)>0))),"",IF('Your debts'!$D$20="Avalanche",'Avalanche workings'!$S$15,'Snowball workings'!$S$15)+IF('Your debts'!$D$20="Avalanche",'Avalanche workings'!$AM$15,'Snowball workings'!$AM$15)) | U13: =IF(OR(8>$Z$1,NOT(OR('Your debts'!$B$13<>"",N('Your debts'!$C$13)>0))),"",IF('Your debts'!$D$20="Avalanche",'Avalanche workings'!$AW$15,'Snowball workings'!$AW$15)) | V13: =IF(OR(8>$Z$1,NOT(OR('Your debts'!$B$14<>"",N('Your debts'!$C$14)>0))),"",IF('Your debts'!$D$20="Avalanche",'Avalanche workings'!$T$15,'Snowball workings'!$T$15)+IF('Your debts'!$D$20="Avalanche",'Avalanche workings'!$AN$15,'Snowball workings'!$AN$15)) | W13: =IF(OR(8>$Z$1,NOT(OR('Your debts'!$B$14<>"",N('Your debts'!$C$14)>0))),"",IF('Your debts'!$D$20="Avalanche",'Avalanche workings'!$AX$15,'Snowball workings'!$AX$15)) | X13: =IF(OR(8>$Z$1,NOT(OR('Your debts'!$B$15<>"",N('Your debts'!$C$15)>0))),"",IF('Your debts'!$D$20="Avalanche",'Avalanche workings'!$U$15,'Snowball workings'!$U$15)+IF('Your debts'!$D$20="Avalanche",'Avalanche workings'!$AO$15,'Snowball workings'!$AO$15)) | Y13: =IF(OR(8>$Z$1,NOT(OR('Your debts'!$B$15<>"",N('Your debts'!$C$15)>0))),"",IF('Your debts'!$D$20="Avalanche",'Avalanche workings'!$AY$15,'Snowball workings'!$AY$15))
A14: =IF(9>$Z$1,"",9) | B14: =IF(9>$Z$1,"",EDATE('Your debts'!$D$21,8)) | C14: =IF(9>$Z$1,"",IF('Your debts'!$D$20="Avalanche",'Avalanche workings'!$BC$16,'Snowball workings'!$BC$16)) | D14: =IF(9>$Z$1,"",IF('Your debts'!$D$20="Avalanche",'Avalanche workings'!$BA$16,'Snowball workings'!$BA$16)) | E14: =IF(9>$Z$1,"",IF('Your debts'!$D$20="Avalanche",'Avalanche workings'!$BB$16,'Snowball workings'!$BB$16)) | F14: =IF(OR(9>$Z$1,NOT(OR('Your debts'!$B$6<>"",N('Your debts'!$C$6)>0))),"",IF('Your debts'!$D$20="Avalanche",'Avalanche workings'!$L$16,'Snowball workings'!$L$16)+IF('Your debts'!$D$20="Avalanche",'Avalanche workings'!$AF$16,'Snowball workings'!$AF$16)) | G14: =IF(OR(9>$Z$1,NOT(OR('Your debts'!$B$6<>"",N('Your debts'!$C$6)>0))),"",IF('Your debts'!$D$20="Avalanche",'Avalanche workings'!$AP$16,'Snowball workings'!$AP$16)) | H14: =IF(OR(9>$Z$1,NOT(OR('Your debts'!$B$7<>"",N('Your debts'!$C$7)>0))),"",IF('Your debts'!$D$20="Avalanche",'Avalanche workings'!$M$16,'Snowball workings'!$M$16)+IF('Your debts'!$D$20="Avalanche",'Avalanche workings'!$AG$16,'Snowball workings'!$AG$16)) | I14: =IF(OR(9>$Z$1,NOT(OR('Your debts'!$B$7<>"",N('Your debts'!$C$7)>0))),"",IF('Your debts'!$D$20="Avalanche",'Avalanche workings'!$AQ$16,'Snowball workings'!$AQ$16)) | J14: =IF(OR(9>$Z$1,NOT(OR('Your debts'!$B$8<>"",N('Your debts'!$C$8)>0))),"",IF('Your debts'!$D$20="Avalanche",'Avalanche workings'!$N$16,'Snowball workings'!$N$16)+IF('Your debts'!$D$20="Avalanche",'Avalanche workings'!$AH$16,'Snowball workings'!$AH$16)) | K14: =IF(OR(9>$Z$1,NOT(OR('Your debts'!$B$8<>"",N('Your debts'!$C$8)>0))),"",IF('Your debts'!$D$20="Avalanche",'Avalanche workings'!$AR$16,'Snowball workings'!$AR$16)) | L14: =IF(OR(9>$Z$1,NOT(OR('Your debts'!$B$9<>"",N('Your debts'!$C$9)>0))),"",IF('Your debts'!$D$20="Avalanche",'Avalanche workings'!$O$16,'Snowball workings'!$O$16)+IF('Your debts'!$D$20="Avalanche",'Avalanche workings'!$AI$16,'Snowball workings'!$AI$16)) | M14: =IF(OR(9>$Z$1,NOT(OR('Your debts'!$B$9<>"",N('Your debts'!$C$9)>0))),"",IF('Your debts'!$D$20="Avalanche",'Avalanche workings'!$AS$16,'Snowball workings'!$AS$16)) | N14: =IF(OR(9>$Z$1,NOT(OR('Your debts'!$B$10<>"",N('Your debts'!$C$10)>0))),"",IF('Your debts'!$D$20="Avalanche",'Avalanche workings'!$P$16,'Snowball workings'!$P$16)+IF('Your debts'!$D$20="Avalanche",'Avalanche workings'!$AJ$16,'Snowball workings'!$AJ$16)) | O14: =IF(OR(9>$Z$1,NOT(OR('Your debts'!$B$10<>"",N('Your debts'!$C$10)>0))),"",IF('Your debts'!$D$20="Avalanche",'Avalanche workings'!$AT$16,'Snowball workings'!$AT$16)) | P14: =IF(OR(9>$Z$1,NOT(OR('Your debts'!$B$11<>"",N('Your debts'!$C$11)>0))),"",IF('Your debts'!$D$20="Avalanche",'Avalanche workings'!$Q$16,'Snowball workings'!$Q$16)+IF('Your debts'!$D$20="Avalanche",'Avalanche workings'!$AK$16,'Snowball workings'!$AK$16)) | Q14: =IF(OR(9>$Z$1,NOT(OR('Your debts'!$B$11<>"",N('Your debts'!$C$11)>0))),"",IF('Your debts'!$D$20="Avalanche",'Avalanche workings'!$AU$16,'Snowball workings'!$AU$16)) | R14: =IF(OR(9>$Z$1,NOT(OR('Your debts'!$B$12<>"",N('Your debts'!$C$12)>0))),"",IF('Your debts'!$D$20="Avalanche",'Avalanche workings'!$R$16,'Snowball workings'!$R$16)+IF('Your debts'!$D$20="Avalanche",'Avalanche workings'!$AL$16,'Snowball workings'!$AL$16)) | S14: =IF(OR(9>$Z$1,NOT(OR('Your debts'!$B$12<>"",N('Your debts'!$C$12)>0))),"",IF('Your debts'!$D$20="Avalanche",'Avalanche workings'!$AV$16,'Snowball workings'!$AV$16)) | T14: =IF(OR(9>$Z$1,NOT(OR('Your debts'!$B$13<>"",N('Your debts'!$C$13)>0))),"",IF('Your debts'!$D$20="Avalanche",'Avalanche workings'!$S$16,'Snowball workings'!$S$16)+IF('Your debts'!$D$20="Avalanche",'Avalanche workings'!$AM$16,'Snowball workings'!$AM$16)) | U14: =IF(OR(9>$Z$1,NOT(OR('Your debts'!$B$13<>"",N('Your debts'!$C$13)>0))),"",IF('Your debts'!$D$20="Avalanche",'Avalanche workings'!$AW$16,'Snowball workings'!$AW$16)) | V14: =IF(OR(9>$Z$1,NOT(OR('Your debts'!$B$14<>"",N('Your debts'!$C$14)>0))),"",IF('Your debts'!$D$20="Avalanche",'Avalanche workings'!$T$16,'Snowball workings'!$T$16)+IF('Your debts'!$D$20="Avalanche",'Avalanche workings'!$AN$16,'Snowball workings'!$AN$16)) | W14: =IF(OR(9>$Z$1,NOT(OR('Your debts'!$B$14<>"",N('Your debts'!$C$14)>0))),"",IF('Your debts'!$D$20="Avalanche",'Avalanche workings'!$AX$16,'Snowball workings'!$AX$16)) | X14: =IF(OR(9>$Z$1,NOT(OR('Your debts'!$B$15<>"",N('Your debts'!$C$15)>0))),"",IF('Your debts'!$D$20="Avalanche",'Avalanche workings'!$U$16,'Snowball workings'!$U$16)+IF('Your debts'!$D$20="Avalanche",'Avalanche workings'!$AO$16,'Snowball workings'!$AO$16)) | Y14: =IF(OR(9>$Z$1,NOT(OR('Your debts'!$B$15<>"",N('Your debts'!$C$15)>0))),"",IF('Your debts'!$D$20="Avalanche",'Avalanche workings'!$AY$16,'Snowball workings'!$AY$16))
